BEGIN:VCALENDAR
VERSION:2.0
PRODID:-//wp-events-plugin.com//7.2.3.1//EN
BEGIN:VEVENT
UID:294@harmonyandme.org
DTSTART:20241102T111500Z
DTEND:20241102T120000Z
DTSTAMP:20241011T171912Z
URL:https://harmonyandme.org/events/f2405ma-hm/
SUMMARY:F2405MA - HM
DESCRIPTION:
CATEGORIES:Class,Mixed Ages (MA)
LOCATION:Harmony & Me Music Studio\, 15671 HWY 101S\; Suite A2\, Brookings\
 , OR 97415\, Brookings\, OR\, 97415\, United States
X-APPLE-STRUCTURED-LOCATION;VALUE=URI;X-ADDRESS=15671 HWY 101S Suite A2\, B
 rookings\, OR 97415\, Brookings\, OR\, 97415\, United States;X-APPLE-RADIU
 S=100;X-TITLE=Harmony & Me Music Studio:geo:0,0
END:VEVENT
END:VCALENDAR