BEGIN:VCALENDAR
VERSION:2.0
PRODID:-//wp-events-plugin.com//7.2.3.1//EN
BEGIN:VEVENT
UID:8@harmonyandme.org
DTSTART:20240624T104500Z
DTEND:20240624T113000Z
DTSTAMP:20240621T183050Z
URL:https://harmonyandme.org/events/free-demo-mixed-ages/
SUMMARY:FREE Demo - Mixed Ages
DESCRIPTION:
CATEGORIES:Babies (BB),FREE Demo Classes
LOCATION:Harmony & Me\, 15671 HWY 101S\, Brookings\, OR\, 97415\, United St
 ates
X-APPLE-STRUCTURED-LOCATION;VALUE=URI;X-ADDRESS=15671 HWY 101S\, Brookings\
 , OR\, 97415\, United States;X-APPLE-RADIUS=100;X-TITLE=Harmony & Me:geo:0
 ,0
END:VEVENT
END:VCALENDAR