BEGIN:VCALENDAR
VERSION:2.0
PRODID:-//wp-events-plugin.com//7.2.3.1//EN
BEGIN:VEVENT
UID:10@harmonyandme.org
DTSTART:20240624T134500Z
DTEND:20240624T143000Z
DTSTAMP:20240621T173920Z
URL:https://harmonyandme.org/events/free-demo-rhythm-kids/
SUMMARY:FREE Demo - Rhythm Kids
DESCRIPTION:
CATEGORIES:FREE Demo Classes,Rhythm Kids (RK)
LOCATION:Crescent City CA\, 144 Butte St\, \, Crescent City \, CA\, 95531\,
  United States
X-APPLE-STRUCTURED-LOCATION;VALUE=URI;X-ADDRESS=144 Butte St\, \, Crescent 
 City \, CA\, 95531\, United States;X-APPLE-RADIUS=100;X-TITLE=Crescent Cit
 y CA:geo:0,0
END:VEVENT
END:VCALENDAR