BEGIN:VCALENDAR
VERSION:2.0
PRODID:-//wp-events-plugin.com//7.2.3.1//EN
BEGIN:VEVENT
UID:601@harmonyandme.org
DTSTART:20250721T091500Z
DTEND:20250721T100000Z
DTSTAMP:20250707T202921Z
URL:https://harmonyandme.org/events/u2502-bb/
SUMMARY:U2502BB - TBD
DESCRIPTION:
CATEGORIES:Babies (BB)
END:VEVENT
END:VCALENDAR